BEGIN:VCALENDAR
VERSION:2.0
PRODID:-//Raflamessut - ECPv6.9.1//NONSGML v1.0//EN
CALSCALE:GREGORIAN
METHOD:PUBLISH
X-WR-CALNAME:Raflamessut
X-ORIGINAL-URL:https://raflamessut.fi
X-WR-CALDESC:Events for Raflamessut
REFRESH-INTERVAL;VALUE=DURATION:PT1H
X-Robots-Tag:noindex
X-PUBLISHED-TTL:PT1H
BEGIN:VTIMEZONE
TZID:Europe/Helsinki
BEGIN:DAYLIGHT
TZOFFSETFROM:+0200
TZOFFSETTO:+0300
TZNAME:EEST
DTSTART:20250330T010000
END:DAYLIGHT
BEGIN:STANDARD
TZOFFSETFROM:+0300
TZOFFSETTO:+0200
TZNAME:EET
DTSTART:20251026T010000
END:STANDARD
END:VTIMEZONE
BEGIN:VEVENT
DTSTART;VALUE=DATE:20250407
DTEND;VALUE=DATE:20250408
DTSTAMP:20260420T103553
CREATED:20250128T112945Z
LAST-MODIFIED:20250312T145221Z
UID:2903-1743984000-1744070399@raflamessut.fi
SUMMARY:Raflamessut 2025
DESCRIPTION: \n \n\n \n \n \n \n 
URL:https://raflamessut.fi/tapahtuma/raflamessut-2025/
ORGANIZER;CN="Raflamessut":MAILTO:myynti@atukku.fi
END:VEVENT
END:VCALENDAR